BEGIN:VCALENDAR
VERSION:2.0
PRODID:-//Proyecta - ECPv6.15.20//NONSGML v1.0//EN
CALSCALE:GREGORIAN
METHOD:PUBLISH
X-ORIGINAL-URL:https://proyecta.gov.co
X-WR-CALDESC:Eventos para Proyecta
REFRESH-INTERVAL;VALUE=DURATION:PT1H
X-Robots-Tag:noindex
X-PUBLISHED-TTL:PT1H
BEGIN:VTIMEZONE
TZID:America/New_York
BEGIN:DAYLIGHT
TZOFFSETFROM:-0500
TZOFFSETTO:-0400
TZNAME:EDT
DTSTART:20240310T070000
END:DAYLIGHT
BEGIN:STANDARD
TZOFFSETFROM:-0400
TZOFFSETTO:-0500
TZNAME:EST
DTSTART:20241103T060000
END:STANDARD
BEGIN:DAYLIGHT
TZOFFSETFROM:-0500
TZOFFSETTO:-0400
TZNAME:EDT
DTSTART:20250309T070000
END:DAYLIGHT
BEGIN:STANDARD
TZOFFSETFROM:-0400
TZOFFSETTO:-0500
TZNAME:EST
DTSTART:20251102T060000
END:STANDARD
BEGIN:DAYLIGHT
TZOFFSETFROM:-0500
TZOFFSETTO:-0400
TZNAME:EDT
DTSTART:20260308T070000
END:DAYLIGHT
BEGIN:STANDARD
TZOFFSETFROM:-0400
TZOFFSETTO:-0500
TZNAME:EST
DTSTART:20261101T060000
END:STANDARD
END:VTIMEZONE
BEGIN:VEVENT
DTSTART;TZID=America/New_York:20250916T080000
DTEND;TZID=America/New_York:20250916T170000
DTSTAMP:20260419T122419
CREATED:20251014T195304Z
LAST-MODIFIED:20251014T195304Z
UID:4236-1758009600-1758042000@proyecta.gov.co
SUMMARY:Jornada de inscripción en la base oficial de vivienda en el municipio de Calarcá
DESCRIPTION:El municipio de Calarcá fue escenario de una jornada especial de inscripción en la base de datos oficial del municipio en el marco del proyecto de vivienda\, liderado por la Gobernación del Quindío a través de la Empresa para el Desarrollo Territorial – PROYECTA. Esta actividad\, que se desarrolló con un enfoque diferencial\, priorizó la atención a poblaciones históricamente vulnerables como personas con discapacidad\, víctimas del conflicto\, comunidades indígenas\, adultos mayores\, población negra\, afrodescendiente\, OSIGD\, entre otros; garantizando que nadie quede por fuera del acceso a una vida digna. \nLa jornada se convirtió en una verdadera oportunidad de transformación social. Las familias participantes accedieron a la ruta que les permitirá ser beneficiarias de vivienda nueva VIP\, mejoramiento de vivienda urbana y rural\, así como procesos de titulación y legalización de predios.
URL:https://proyecta.gov.co/event/jornada-de-inscripcion-en-la-base-oficial-de-vivienda-en-el-municipio-de-calarca/
CATEGORIES:Eventos
ATTACH;FMTTYPE=image/jpeg:https://proyecta.gov.co/wp-content/uploads/Jornada-Inscripcion-Calarca.jpg
END:VEVENT
END:VCALENDAR