BEGIN:VCALENDAR
VERSION:2.0
PRODID:-//Proyecta - ECPv6.15.20//NONSGML v1.0//EN
CALSCALE:GREGORIAN
METHOD:PUBLISH
X-WR-CALNAME:Proyecta
X-ORIGINAL-URL:https://proyecta.gov.co
X-WR-CALDESC:Eventos para Proyecta
REFRESH-INTERVAL;VALUE=DURATION:PT1H
X-Robots-Tag:noindex
X-PUBLISHED-TTL:PT1H
BEGIN:VTIMEZONE
TZID:America/New_York
BEGIN:DAYLIGHT
TZOFFSETFROM:-0500
TZOFFSETTO:-0400
TZNAME:EDT
DTSTART:20240310T070000
END:DAYLIGHT
BEGIN:STANDARD
TZOFFSETFROM:-0400
TZOFFSETTO:-0500
TZNAME:EST
DTSTART:20241103T060000
END:STANDARD
BEGIN:DAYLIGHT
TZOFFSETFROM:-0500
TZOFFSETTO:-0400
TZNAME:EDT
DTSTART:20250309T070000
END:DAYLIGHT
BEGIN:STANDARD
TZOFFSETFROM:-0400
TZOFFSETTO:-0500
TZNAME:EST
DTSTART:20251102T060000
END:STANDARD
BEGIN:DAYLIGHT
TZOFFSETFROM:-0500
TZOFFSETTO:-0400
TZNAME:EDT
DTSTART:20260308T070000
END:DAYLIGHT
BEGIN:STANDARD
TZOFFSETFROM:-0400
TZOFFSETTO:-0500
TZNAME:EST
DTSTART:20261101T060000
END:STANDARD
END:VTIMEZONE
BEGIN:VEVENT
DTSTART;TZID=America/New_York:20250513T080000
DTEND;TZID=America/New_York:20250513T170000
DTSTAMP:20260419T194800
CREATED:20250525T224636Z
LAST-MODIFIED:20250525T224637Z
UID:3270-1747123200-1747155600@proyecta.gov.co
SUMMARY:Firma del convenio interadministrativo 008 de 2025 con el municipio de Circasia.
DESCRIPTION:Honrando el compromiso del gobierno que orienta Juan Miguel Galvis Bedoya\, de apoyar el desarrollo social y turístico de los municipios quindianos\, la empresa PROYECTA a través de la gerente Lina Marcela Roldán Prieto\, y el alcalde de Circasia\, Julián Andrés Peña Sierra\, suscribieron el convenio 008\, para realizar mantenimiento y/o mejoramiento al parque El Mirador en la localidad. \nCon esta obra\, se apoya al proceso de estructuración de una ruta turística para Circasia\, en la que el parque Mirador es un referente importante\, lo que impactará de manera positiva a familias de la localidad y a la dinámica económica del Quindío.
URL:https://proyecta.gov.co/event/firma-del-convenio-interadministrativo-008-de-2025-con-el-municipio-de-circasia/
CATEGORIES:Eventos
ATTACH;FMTTYPE=image/jpeg:https://proyecta.gov.co/wp-content/uploads/Firma-del-convenio-interadministrativo-008-de-2025-con-el-municipio-de-Circasia.jpg
END:VEVENT
END:VCALENDAR