BEGIN:VCALENDAR
VERSION:2.0
PRODID:-//Proyecta - ECPv6.15.20//NONSGML v1.0//EN
CALSCALE:GREGORIAN
METHOD:PUBLISH
X-ORIGINAL-URL:https://proyecta.gov.co
X-WR-CALDESC:Eventos para Proyecta
REFRESH-INTERVAL;VALUE=DURATION:PT1H
X-Robots-Tag:noindex
X-PUBLISHED-TTL:PT1H
BEGIN:VTIMEZONE
TZID:America/New_York
BEGIN:DAYLIGHT
TZOFFSETFROM:-0500
TZOFFSETTO:-0400
TZNAME:EDT
DTSTART:20240310T070000
END:DAYLIGHT
BEGIN:STANDARD
TZOFFSETFROM:-0400
TZOFFSETTO:-0500
TZNAME:EST
DTSTART:20241103T060000
END:STANDARD
BEGIN:DAYLIGHT
TZOFFSETFROM:-0500
TZOFFSETTO:-0400
TZNAME:EDT
DTSTART:20250309T070000
END:DAYLIGHT
BEGIN:STANDARD
TZOFFSETFROM:-0400
TZOFFSETTO:-0500
TZNAME:EST
DTSTART:20251102T060000
END:STANDARD
BEGIN:DAYLIGHT
TZOFFSETFROM:-0500
TZOFFSETTO:-0400
TZNAME:EDT
DTSTART:20260308T070000
END:DAYLIGHT
BEGIN:STANDARD
TZOFFSETFROM:-0400
TZOFFSETTO:-0500
TZNAME:EST
DTSTART:20261101T060000
END:STANDARD
END:VTIMEZONE
BEGIN:VEVENT
DTSTART;TZID=America/New_York:20250510T080000
DTEND;TZID=America/New_York:20250510T170000
DTSTAMP:20260419T194913
CREATED:20250525T223932Z
LAST-MODIFIED:20250525T224136Z
UID:3263-1746864000-1746896400@proyecta.gov.co
SUMMARY:Recorrido y seguimiento a obras en el municipio de La Tebaida
DESCRIPTION:En el marco del programa “Gobierno en la Calle”\, la Gobernación del Quindío\, liderada por Juan Miguel Galvis Bedoya\, realizó el pasado sábado 10 de mayo un recorrido de seguimiento a obras en el municipio de La Tebaida. La jornada fue coordinada con la Empresa para el Desarrollo Territorial PROYECTA\, bajo la dirección de Lina Marcela Roldán Prieto\, con el propósito de verificar el avance de proyectos de infraestructura deportiva y de vías. \nDurante la visita\, se inspeccionaron la cancha múltiple CIC El Cantarito\, la cancha de fútbol 8 en césped natural\, el polideportivo Apolinar Londoño\, el polideportivo La Estación y la construcción de la red de acueducto y alcantarillado en el barrio San Miguel de dicha municipalidad. Allí se evaluó el estado actual de las intervenciones y se definieron las acciones necesarias para su entrega definitiva a la Alcaldía Municipal.
URL:https://proyecta.gov.co/event/recorrido-y-seguimiento-a-obras-en-el-municipio-de-la-tebaida/
CATEGORIES:Eventos
END:VEVENT
END:VCALENDAR