BEGIN:VCALENDAR
VERSION:2.0
PRODID:-//Proyecta - ECPv6.15.20//NONSGML v1.0//EN
CALSCALE:GREGORIAN
METHOD:PUBLISH
X-WR-CALNAME:Proyecta
X-ORIGINAL-URL:https://proyecta.gov.co
X-WR-CALDESC:Eventos para Proyecta
REFRESH-INTERVAL;VALUE=DURATION:PT1H
X-Robots-Tag:noindex
X-PUBLISHED-TTL:PT1H
BEGIN:VTIMEZONE
TZID:America/New_York
BEGIN:DAYLIGHT
TZOFFSETFROM:-0500
TZOFFSETTO:-0400
TZNAME:EDT
DTSTART:20240310T070000
END:DAYLIGHT
BEGIN:STANDARD
TZOFFSETFROM:-0400
TZOFFSETTO:-0500
TZNAME:EST
DTSTART:20241103T060000
END:STANDARD
BEGIN:DAYLIGHT
TZOFFSETFROM:-0500
TZOFFSETTO:-0400
TZNAME:EDT
DTSTART:20250309T070000
END:DAYLIGHT
BEGIN:STANDARD
TZOFFSETFROM:-0400
TZOFFSETTO:-0500
TZNAME:EST
DTSTART:20251102T060000
END:STANDARD
BEGIN:DAYLIGHT
TZOFFSETFROM:-0500
TZOFFSETTO:-0400
TZNAME:EDT
DTSTART:20260308T070000
END:DAYLIGHT
BEGIN:STANDARD
TZOFFSETFROM:-0400
TZOFFSETTO:-0500
TZNAME:EST
DTSTART:20261101T060000
END:STANDARD
END:VTIMEZONE
BEGIN:VEVENT
DTSTART;TZID=America/New_York:20250509T080000
DTEND;TZID=America/New_York:20250509T170000
DTSTAMP:20260419T194756
CREATED:20250525T223657Z
LAST-MODIFIED:20250525T223657Z
UID:3260-1746777600-1746810000@proyecta.gov.co
SUMMARY:Firma del convenio interadministrativo 007 con el municipio de Pijao
DESCRIPTION:El viernes 09 de mayo se llevó a cabo la firma del convenio interadministrativo No. 007 de 2025 entre PROYECTA y el municipio de Pijao\, con el objetivo de avanzar en diagnóstico\, planeación\, estructuración y ejecución\, del programa de mejoramiento de vivienda urbana y rural en esa localidad. Desde PROYECTA\, bajo la dirección de Lina Marcela Roldán Prieto\, seguimos comprometidos con el desarrollo de nuestros municipios y con mejorar la calidad de vida de las familias quindianas. \nEste convenio hace parte de la política de vivienda impulsado por la Gobernación del Quindío bajo el liderazgo de Juan Miguel Galvis Bedoya a través de la Empresa para el Desarrollo Territorial PROYECTA.
URL:https://proyecta.gov.co/event/firma-del-convenio-interadministrativo-007-con-el-municipio-de-pijao/
CATEGORIES:Eventos
ATTACH;FMTTYPE=image/jpeg:https://proyecta.gov.co/wp-content/uploads/Firma-del-convenio-interadministrativo-007-con-el-municipio-de-Pijao.jpg
END:VEVENT
END:VCALENDAR