BEGIN:VCALENDAR
VERSION:2.0
PRODID:-//Proyecta - ECPv6.15.20//NONSGML v1.0//EN
CALSCALE:GREGORIAN
METHOD:PUBLISH
X-WR-CALNAME:Proyecta
X-ORIGINAL-URL:https://proyecta.gov.co
X-WR-CALDESC:Eventos para Proyecta
REFRESH-INTERVAL;VALUE=DURATION:PT1H
X-Robots-Tag:noindex
X-PUBLISHED-TTL:PT1H
BEGIN:VTIMEZONE
TZID:America/New_York
BEGIN:DAYLIGHT
TZOFFSETFROM:-0500
TZOFFSETTO:-0400
TZNAME:EDT
DTSTART:20240310T070000
END:DAYLIGHT
BEGIN:STANDARD
TZOFFSETFROM:-0400
TZOFFSETTO:-0500
TZNAME:EST
DTSTART:20241103T060000
END:STANDARD
BEGIN:DAYLIGHT
TZOFFSETFROM:-0500
TZOFFSETTO:-0400
TZNAME:EDT
DTSTART:20250309T070000
END:DAYLIGHT
BEGIN:STANDARD
TZOFFSETFROM:-0400
TZOFFSETTO:-0500
TZNAME:EST
DTSTART:20251102T060000
END:STANDARD
BEGIN:DAYLIGHT
TZOFFSETFROM:-0500
TZOFFSETTO:-0400
TZNAME:EDT
DTSTART:20260308T070000
END:DAYLIGHT
BEGIN:STANDARD
TZOFFSETFROM:-0400
TZOFFSETTO:-0500
TZNAME:EST
DTSTART:20261101T060000
END:STANDARD
END:VTIMEZONE
BEGIN:VEVENT
DTSTART;TZID=America/New_York:20250603T080000
DTEND;TZID=America/New_York:20250604T170000
DTSTAMP:20260419T160450
CREATED:20250603T163433Z
LAST-MODIFIED:20250603T163433Z
UID:3326-1748937600-1749056400@proyecta.gov.co
SUMMARY:SOCIALIZACION INICIAL CONTRATO DE CONSULTORIA 001 DE 2025
DESCRIPTION:SOCIALIZACION INICIAL CONTRATO DE CONSULTORIA 001 DE 2025
URL:https://proyecta.gov.co/event/socializacion-inicial-contrato-de-consultoria-001-de-2025/
CATEGORIES:Eventos
ATTACH;FMTTYPE=image/jpeg:https://proyecta.gov.co/wp-content/uploads/WhatsApp-Image-2025-06-03-at-11.26.32-AM.jpeg
END:VEVENT
BEGIN:VEVENT
DTSTART;VALUE=DATE:20250619
DTEND;VALUE=DATE:20250620
DTSTAMP:20260419T160450
CREATED:20250708T134506Z
LAST-MODIFIED:20250708T134506Z
UID:3476-1750291200-1750377599@proyecta.gov.co
SUMMARY:Segunda Junta Directiva del año 2025
DESCRIPTION:Este jueves 19 de junio\, PROYECTA llevó a cabo su segunda junta directiva del año 2025\, una jornada presidida por el gobernador del Quindío\, Juan Miguel Galvis Bedoya\, y dirigida por la gerente Lina Marcela Roldán Prieto. La reunión contó con la participación de los miembros de la junta: los secretarios de Infraestructura\, Hacienda y secretaria Jurídica como invitada especial; así como del alcalde de Pijao\, John Jairo Restrepo Gallego\, en representación de los alcaldes del departamento. \nEl encuentro dejó un balance altamente positivo\, reflejando el compromiso institucional con el desarrollo del departamento y el fortalecimiento de la infraestructura pública al servicio de la comunidad quindiana.
URL:https://proyecta.gov.co/event/segunda-junta-directiva-del-ano-2025/
CATEGORIES:Eventos
ATTACH;FMTTYPE=image/png:https://proyecta.gov.co/wp-content/uploads/2JUNTA-DIRECTIVA-2025.png
END:VEVENT
END:VCALENDAR